BEGIN:VCALENDAR
VERSION:2.0
PRODID:icalendar-ruby
CALSCALE:GREGORIAN
BEGIN:VEVENT
DTSTAMP:20260421T132112Z
UID:bc32e1ab-6217-45cd-85de-0444cfe161b1
DTSTART;VALUE=DATE:20260513
DESCRIPTION:Property ID# 606808\, Locatoin: In Rooms at Ray White Manukau O
 ffice\, Time: 12:00PM
SUMMARY:Auction for 37 Chieftain Rise
END:VEVENT
END:VCALENDAR
