BEGIN:VCALENDAR
VERSION:2.0
PRODID:icalendar-ruby
CALSCALE:GREGORIAN
BEGIN:VEVENT
DTSTAMP:20260421T041141Z
UID:a7416d4b-19a2-4aae-9943-51a3b3b89e7d
DTSTART;VALUE=DATE:20260422
DESCRIPTION:Property ID# 606112\, Locatoin: In Rooms at Ray White Manukau O
 ffice\, Time: 11:00AM
SUMMARY:Auction for 6/436 Great South Road
END:VEVENT
END:VCALENDAR
