BEGIN:VCALENDAR
VERSION:2.0
PRODID:icalendar-ruby
CALSCALE:GREGORIAN
BEGIN:VEVENT
DTSTAMP:20260421T041614Z
UID:f6242e91-bdad-40d6-b8c6-3766a38f8fa6
DTSTART;VALUE=DATE:20260325
DESCRIPTION:Property ID# 604836\, Locatoin: In Rooms at Ray White Manukau O
 ffice\, Time: 9:00AM
SUMMARY:Auction for 
END:VEVENT
END:VCALENDAR
