BEGIN:VCALENDAR
VERSION:2.0
PRODID:icalendar-ruby
CALSCALE:GREGORIAN
BEGIN:VEVENT
DTSTAMP:20260421T041620Z
UID:ff91a08f-8f38-48c5-82a7-258e66b218cc
DTSTART;VALUE=DATE:20260128
DESCRIPTION:Property ID# 601604\, Locatoin: In Rooms at Ray White Manukau O
 ffice\, Time: 12:00PM
SUMMARY:Auction for 
END:VEVENT
END:VCALENDAR
