BEGIN:VCALENDAR
VERSION:2.0
PRODID:icalendar-ruby
CALSCALE:GREGORIAN
BEGIN:VEVENT
DTSTAMP:20260421T072320Z
UID:d67c6732-3944-4441-b733-d083eec91c4c
DTSTART;VALUE=DATE:20251112
DESCRIPTION:Property ID# 598899\, Locatoin: In Rooms at Ray White Manukau\,
  Time: 12:00PM
SUMMARY:Auction for 
END:VEVENT
END:VCALENDAR
