BEGIN:VCALENDAR
VERSION:2.0
PRODID:icalendar-ruby
CALSCALE:GREGORIAN
BEGIN:VEVENT
DTSTAMP:20260421T071841Z
UID:98ec3169-aaf7-45cf-8740-cbec58a2e5bc
DTSTART;VALUE=DATE:20251105
DESCRIPTION:Property ID# 598375\, Locatoin: In Rooms at Ray White Manukau\,
  Time: 12:00PM
SUMMARY:Auction for 
END:VEVENT
END:VCALENDAR
