BEGIN:VCALENDAR
VERSION:2.0
PRODID:icalendar-ruby
CALSCALE:GREGORIAN
BEGIN:VEVENT
DTSTAMP:20260421T072240Z
UID:f974a1f8-a310-441e-ac77-18f78d45d3e0
DTSTART;VALUE=DATE:20251022
DESCRIPTION:Property ID# 598124\, Locatoin: In Rooms at Ray White Manukau\,
  Time: 9:00AM
SUMMARY:Auction for 
END:VEVENT
END:VCALENDAR
