BEGIN:VCALENDAR
VERSION:2.0
PRODID:icalendar-ruby
CALSCALE:GREGORIAN
BEGIN:VEVENT
DTSTAMP:20260421T041422Z
UID:99732d5d-c709-45b7-bf2f-be79914dda60
DTSTART;VALUE=DATE:20211130
DESCRIPTION:Property ID# 522032\, Locatoin: On Line via phone bidding\, Tim
 e: 2:00PM
SUMMARY:Auction for 
END:VEVENT
END:VCALENDAR
