BEGIN:VCALENDAR
VERSION:2.0
PRODID:icalendar-ruby
CALSCALE:GREGORIAN
BEGIN:VEVENT
DTSTAMP:20260419T145911Z
UID:e3493f60-16ce-4dc6-97cc-320ed6fe83f8
DTSTART;VALUE=DATE:20201212
DESCRIPTION:Property ID# 496027\, Time: 3:45PM
SUMMARY:Auction for 
END:VEVENT
END:VCALENDAR
