BEGIN:VCALENDAR
VERSION:2.0
PRODID:icalendar-ruby
CALSCALE:GREGORIAN
BEGIN:VEVENT
DTSTAMP:20260421T041742Z
UID:e9079a90-67f8-4ba7-b90f-1e539e7df21a
DTSTART;VALUE=DATE:20190923
DESCRIPTION:Property ID# 461216\, Time: 5:00PM
SUMMARY:Auction for 
END:VEVENT
END:VCALENDAR
